BEGIN:VCALENDAR
PRODID:-//eluceo/ical//2.0/EN
VERSION:2.0
CALSCALE:GREGORIAN
BEGIN:VEVENT
UID:ef1f96c153d4445e7e5a12f7aa1a731e
DTSTAMP:20260419T210820Z
SUMMARY:Hooverwood Guild Game Day
DESCRIPTION:Jewish Federation of Greater Indianapolis\, Inc.\nCommunity Cal
 endar\nhttps://jewishindianapolis.org/jfgicommunitycalendar/hooverwood-gui
 ld-game-day-1708617305\n\nAnnual Guild Game Event--More Details to Come!
DTSTART;TZID=America/New_York:20241030T113000
DTEND;TZID=America/New_York:20241030T153000
END:VEVENT
END:VCALENDAR
