BEGIN:VCALENDAR
PRODID:-//eluceo/ical//2.0/EN
VERSION:2.0
CALSCALE:GREGORIAN
BEGIN:VEVENT
UID:cc73ecdfb563dc7021169a2068a9f0f7
DTSTAMP:20260420T001059Z
SUMMARY:HHAI Chanukah IQE Event
DESCRIPTION:Jewish Federation of Greater Indianapolis\, Inc.\nCommunity Cal
 endar\nhttps://jewishindianapolis.org/jfgicommunitycalendar/hhai-chanukah-
 iqe-event-1699979954\n\nEvent for IQE donors.
DTSTART;TZID=America/New_York:20231128T190000
DTEND;TZID=America/New_York:20231128T210000
END:VEVENT
END:VCALENDAR
