BEGIN:VCALENDAR
PRODID:-//eluceo/ical//2.0/EN
VERSION:2.0
CALSCALE:GREGORIAN
BEGIN:VEVENT
UID:8b36b71697629730f271cd067e97a5e4
DTSTAMP:20260419T204445Z
SUMMARY:HHAI Board Meeting
DESCRIPTION:Jewish Federation of Greater Indianapolis\, Inc.\nCommunity Cal
 endar\nhttps://jewishindianapolis.org/jfgicommunitycalendar/hhai-board-mee
 ting-1709138240\n\nHHAI Board of Directors Meeting
DTSTART;TZID=America/New_York:20240314T190000
DTEND;TZID=America/New_York:20240314T210000
END:VEVENT
END:VCALENDAR
