BEGIN:VCALENDAR
PRODID:-//eluceo/ical//2.0/EN
VERSION:2.0
CALSCALE:GREGORIAN
BEGIN:VEVENT
UID:eacf9914c4eea3f033417f6a8c165002
DTSTAMP:20260422T101123Z
SUMMARY:HHAI Board Meeting
DESCRIPTION:Jewish Federation of Greater Indianapolis\, Inc.\nCommunity Cal
 endar\nhttps://jewishindianapolis.org/jfgicommunitycalendar/hhai-board-mee
 ting-1691513410\n\nUnless otherwise notified\, the meeting will be held at
  7pm in the board meeting room in the Cultural Arts Center at HHAI.
DTSTART;TZID=America/New_York:20240404T190000
DTEND;TZID=America/New_York:20240404T210000
END:VEVENT
END:VCALENDAR
