BEGIN:VCALENDAR
PRODID:-//eluceo/ical//2.0/EN
VERSION:2.0
CALSCALE:GREGORIAN
BEGIN:VEVENT
UID:c62e130fc82a78b090d875c30596cfa8
DTSTAMP:20260419T204440Z
SUMMARY:HHAI Board Meeting
DESCRIPTION:Jewish Federation of Greater Indianapolis\, Inc.\nCommunity Cal
 endar\nhttps://jewishindianapolis.org/jfgicommunitycalendar/hhai-board-mee
 ting-1691513315\n\nUnless otherwise notified\, the meeting will be held at
  7pm in the board meeting room in the Cultural Arts Center at HHAI.
DTSTART;TZID=America/New_York:20231212T190000
DTEND;TZID=America/New_York:20231212T210000
END:VEVENT
END:VCALENDAR
