BEGIN:VCALENDAR
PRODID:-//eluceo/ical//2.0/EN
VERSION:2.0
CALSCALE:GREGORIAN
BEGIN:VEVENT
UID:10c335b2408e35e6660f5b125cbda2fd
DTSTAMP:20260423T031719Z
SUMMARY:HHAI Board Meeting
DESCRIPTION:Jewish Federation of Greater Indianapolis\, Inc.\nCommunity Cal
 endar\nhttps://jewishindianapolis.org/jfgicommunitycalendar/hhai-board-mee
 ting-1691513021\n\nUnless otherwise notified\, the meeting will be held at
  7pm in the board meeting room in the Cultural Arts Center at HHAI.
DTSTART;TZID=America/New_York:20230822T190000
DTEND;TZID=America/New_York:20230822T210000
END:VEVENT
END:VCALENDAR
