BEGIN:VCALENDAR
PRODID:-//eluceo/ical//2.0/EN
VERSION:2.0
CALSCALE:GREGORIAN
BEGIN:VEVENT
UID:c01f434f6681d0012873678f0db364b2
DTSTAMP:20260425T031649Z
SUMMARY:HHAI Annual Meeting
DESCRIPTION:Jewish Federation of Greater Indianapolis\, Inc.\nCommunity Cal
 endar\nhttps://jewishindianapolis.org/jfgicommunitycalendar/hhai-annual-me
 eting-1682428126\n\nHHAI Annual Meeting
DTSTART;TZID=America/New_York:20230522T190000
DTEND;TZID=America/New_York:20230522T200000
END:VEVENT
END:VCALENDAR
