BEGIN:VCALENDAR
PRODID:-//eluceo/ical//2.0/EN
VERSION:2.0
CALSCALE:GREGORIAN
BEGIN:VEVENT
UID:eae15d4263931281022a6ca927e609ae
DTSTAMP:20260423T083258Z
SUMMARY:Havdalah with S'mores
DESCRIPTION:Jewish Federation of Greater Indianapolis\, Inc.\nCommunity Cal
 endar\nhttps://jewishindianapolis.org/jfgicommunitycalendar/havdalah-with-
 smores-1688399104\n\nImmerse yourself in the melodies of a musical Havdala
 h\, while indulging in the delightful sticky goodness of S&#39\;mores with
  your family around our BEZ fire pit. Plus\, we’re making our own candle
 s\, so you can take the radiant light of Havdalah home with you! Rain or s
 hine. RSVP to Alex Segal at asegal@bez613.org.
DTSTART;TZID=America/New_York:20230715T183000
DTEND;TZID=America/New_York:20230715T203000
END:VEVENT
END:VCALENDAR
