BEGIN:VCALENDAR
PRODID:-//eluceo/ical//2.0/EN
VERSION:2.0
CALSCALE:GREGORIAN
BEGIN:VEVENT
UID:87870baa0b6656c92b00ab0d8924ddd9
DTSTAMP:20260425T212841Z
SUMMARY:Glick JCC Annual Board of Directors Meeting
DESCRIPTION:Jewish Federation of Greater Indianapolis\, Inc.\nCommunity Cal
 endar\nhttps://jewishindianapolis.org/jfgicommunitycalendar/glick-jewish-c
 ommunity-center-annual-board-of-directors-meeting-1670533582\n\nJewish Com
 munity Center of Greater Indianapolis Annual Board of Directors meeting.\n
 \nIn-person and Zoom accessible.
DTSTART;TZID=America/New_York:20230620T190000
DTEND;TZID=America/New_York:20230620T210000
END:VEVENT
END:VCALENDAR
