BEGIN:VCALENDAR
PRODID:-//eluceo/ical//2.0/EN
VERSION:2.0
CALSCALE:GREGORIAN
BEGIN:VEVENT
UID:3ebf98deb782d0d911efb0c3a88f8c45
DTSTAMP:20260420T015515Z
SUMMARY:Giving Tree Early Learning and Hasten Hebrew Academy Community Chal
 lah Bake
DESCRIPTION:Jewish Federation of Greater Indianapolis\, Inc.\nCommunity Cal
 endar\nhttps://jewishindianapolis.org/jfgicommunitycalendar/giving-tree-ea
 rly-learning-and-hasten-hebrew-academy-community-challah-bake-1689088841\n
 \nComing Together Through Challah!\n\nGiving Tree Early Learning and Haste
 n Hebrew Academy parents\, join us for an evening of weaving challah dough
 \, reconnecting and recharging at HHAI.
DTSTART;TZID=America/New_York:20231109T190000
DTEND;TZID=America/New_York:20231109T210000
END:VEVENT
END:VCALENDAR
