BEGIN:VCALENDAR
PRODID:-//eluceo/ical//2.0/EN
VERSION:2.0
CALSCALE:GREGORIAN
BEGIN:VEVENT
UID:9aafa0f1dc25c9fcd1bcc20cca2a260b
DTSTAMP:20260423T005131Z
SUMMARY:Fifteen Seconds to Safety - An Evening with Mayor Ofir Libstein
DESCRIPTION:Jewish Federation of Greater Indianapolis\, Inc.\nCommunity Cal
 endar\nhttps://jewishindianapolis.org/jfgicommunitycalendar/fifteen-second
 s-to-safety---an-evening-with-mayor-ofir-libstein-1689603944\n\nSponsored 
 by Megan and Greg Maurer\, join us for a special\, educational evening wit
 h Mayor Ofir Libstein. Near the front lines of the conflict between Israel
  and Hamas\, Libstein is the mayor of Sha’ar HaNegev\, located in the We
 stern Negev and near the Gaza Strip. Learn about the high-tech and agro-te
 ch think tanks in Sha’ar HaNegev\, the Israel Trauma Coalition\, and the
  future of Gaza and its need for support.\n\nThis evening will feature an 
 interview with Libstein\, along with light nosh an...
DTSTART;TZID=America/New_York:20230810T190000
DTEND;TZID=America/New_York:20230810T203000
END:VEVENT
END:VCALENDAR
