BEGIN:VCALENDAR
PRODID:-//eluceo/ical//2.0/EN
VERSION:2.0
CALSCALE:GREGORIAN
BEGIN:VEVENT
UID:4f7925a7ec3435b27d118a8d3016e487
DTSTAMP:20260422T222715Z
SUMMARY:Festival of Faiths
DESCRIPTION:Jewish Federation of Greater Indianapolis\, Inc.\nCommunity Cal
 endar\nhttps://jewishindianapolis.org/jfgicommunitycalendar/festival-of-fa
 iths-1691107032\n\nEvery year CIC organizes Indy Festival of Faiths\, Indi
 ana’s largest one-day celebration of our diverse religious landscape. Ov
 er the past nine years\, the festival has steadily grown in the number of 
 organizations participating\, the number of people in attendance\, and the
  diversity of activities offered.
DTSTART;TZID=America/New_York:20230910T130000
DTEND;TZID=America/New_York:20230910T170000
END:VEVENT
END:VCALENDAR
