BEGIN:VCALENDAR
PRODID:-//eluceo/ical//2.0/EN
VERSION:2.0
CALSCALE:GREGORIAN
BEGIN:VEVENT
UID:a32855a324d550e6492401679eb82e07
DTSTAMP:20260419T170417Z
SUMMARY:Family Challah Bake
DESCRIPTION:Jewish Federation of Greater Indianapolis\, Inc.\nCommunity Cal
 endar\nhttps://jewishindianapolis.org/jfgicommunitycalendar/family-challah
 -bake-1704823372\n\nJoin PJ Library and Chabad for a fun family challah ba
 ke (children ages 0-12 years old.) Registration is required by Friday\, Fe
 b. 16.\n\nNo walk-ins will be allowed.
DTSTART;TZID=America/New_York:20240219T100000
DTEND;TZID=America/New_York:20240219T113000
END:VEVENT
END:VCALENDAR
