BEGIN:VCALENDAR
PRODID:-//eluceo/ical//2.0/EN
VERSION:2.0
CALSCALE:GREGORIAN
BEGIN:VEVENT
UID:dee3b1211e55e062506b54b33c6e2559
DTSTAMP:20260422T101335Z
SUMMARY:Deborah Sisterhood Hike
DESCRIPTION:Jewish Federation of Greater Indianapolis\, Inc.\nCommunity Cal
 endar\nhttps://jewishindianapolis.org/jfgicommunitycalendar/deborah-sister
 hood-hike-1690386556\n\nSeptember 3: Sisterhood Hike\n(open to all ages an
 d genders)\n10 AM\nMeet in front of the Broad Ripple Starbucks\nFinish at 
 BRICS Ice Cream
DTSTART;TZID=America/New_York:20230903T100000
DTEND;TZID=America/New_York:20230903T120000
END:VEVENT
END:VCALENDAR
