BEGIN:VCALENDAR
PRODID:-//eluceo/ical//2.0/EN
VERSION:2.0
CALSCALE:GREGORIAN
BEGIN:VEVENT
UID:8cc1f543cb168e3b448129b3c81b4b8d
DTSTAMP:20260422T210607Z
SUMMARY:Deborah Sisterhood Bake Sale Pick-up
DESCRIPTION:Jewish Federation of Greater Indianapolis\, Inc.\nCommunity Cal
 endar\nhttps://jewishindianapolis.org/jfgicommunitycalendar/deborah-sister
 hood-bake-sale-pick-up-1690386826\n\nBake Sale Pick-up\n11:00 AM - 1:00 PM
DTSTART;TZID=America/New_York:20230910T110000
DTEND;TZID=America/New_York:20230910T130000
END:VEVENT
END:VCALENDAR
