BEGIN:VCALENDAR
PRODID:-//eluceo/ical//2.0/EN
VERSION:2.0
CALSCALE:GREGORIAN
BEGIN:VEVENT
UID:35039265a4d976ed2dab2a4fd913b19f
DTSTAMP:20260423T050944Z
SUMMARY:CST Annual Membership Picnic
DESCRIPTION:Jewish Federation of Greater Indianapolis\, Inc.\nCommunity Cal
 endar\nhttps://jewishindianapolis.org/jfgicommunitycalendar/cst-annual-mem
 bership-picnic-1691088928\n\n
DTSTART;TZID=America/New_York:20230813T110000
DTEND;TZID=America/New_York:20230813T130000
END:VEVENT
END:VCALENDAR
