BEGIN:VCALENDAR
PRODID:-//eluceo/ical//2.0/EN
VERSION:2.0
CALSCALE:GREGORIAN
BEGIN:VEVENT
UID:7f497c7f99497a97cb1955127cc12e15
DTSTAMP:20260419T233742Z
SUMMARY:Create Passover Baskets for Holocaust Survivors
DESCRIPTION:Jewish Federation of Greater Indianapolis\, Inc.\nCommunity Cal
 endar\nhttps://jewishindianapolis.org/jfgicommunitycalendar/create-passove
 r-baskets-for-holocaust-survivors\n\nTuesday\, April 9\n\n6:30 p.m.\n\nLai
 kin Auditorium\, JCC\n\nCost is $36\, which covers the basket items. Donat
 ions for a food basket item are encouraged.\n\nRegister at bit.ly/passover
 basket. \n\n \n\nJoin Women’s Philanthropy for the second event in the
  new Connection\, Empowerment\, and Impact Series. Learn about Jewish Fami
 ly Services and our work with Holocaust survivors. Create Passover Food Ba
 skets for 75 local Holocaust survivors in our community. Baskets will incl
 ude gefilte fish\,...
DTSTART;TZID=America/New_York:20240409T183000
DTEND;TZID=America/New_York:20240409T203000
END:VEVENT
END:VCALENDAR
