BEGIN:VCALENDAR
PRODID:-//eluceo/ical//2.0/EN
VERSION:2.0
CALSCALE:GREGORIAN
BEGIN:VEVENT
UID:387e3d7b62e13beb0b6bb53fe4672872
DTSTAMP:20260420T101806Z
SUMMARY:Bnai Torah Chanukah Concert
DESCRIPTION:Jewish Federation of Greater Indianapolis\, Inc.\nCommunity Cal
 endar\nhttps://jewishindianapolis.org/jfgicommunitycalendar/chanukah-conce
 rt-1700111625\n\nConcert and Dinner open to the community.
DTSTART;TZID=America/New_York:20231211T180000
DTEND;TZID=America/New_York:20231211T210000
END:VEVENT
END:VCALENDAR
