BEGIN:VCALENDAR
PRODID:-//eluceo/ical//2.0/EN
VERSION:2.0
CALSCALE:GREGORIAN
BEGIN:VEVENT
UID:6f4b6a543149e4dd078862d29e0c258a
DTSTAMP:20260425T183441Z
SUMMARY:Bruce Frank Martin larner Leadership Academy
DESCRIPTION:Jewish Federation of Greater Indianapolis\, Inc.\nCommunity Cal
 endar\nhttps://jewishindianapolis.org/jfgicommunitycalendar/bruce-frank-ma
 rtin-larner-leadership-academy-1670532146\n\nA leadership program for pros
 pective JCC board members.
DTSTART;TZID=America/New_York:20230420T180000
DTEND;TZID=America/New_York:20230420T200000
END:VEVENT
END:VCALENDAR
