BEGIN:VCALENDAR
PRODID:-//eluceo/ical//2.0/EN
VERSION:2.0
CALSCALE:GREGORIAN
BEGIN:VEVENT
UID:805e8e210daa7159a26ed7c848b15d43
DTSTAMP:20260419T204454Z
SUMMARY:BEZ Tot Shabbat
DESCRIPTION:Jewish Federation of Greater Indianapolis\, Inc.\nCommunity Cal
 endar\nhttps://jewishindianapolis.org/jfgicommunitycalendar/bez-tot-shabba
 t-1712236314\n\nSinging\, movement\, music and more at a fun Shabbat servi
 ce for newborns to 3-year-olds and their families and friends. Older sibli
 ngs are welcome\, too! RSVP to Robbie Alder at ralder@bez613.org.
DTSTART;TZID=America/New_York:20240413T100000
DTEND;TZID=America/New_York:20240413T113000
END:VEVENT
END:VCALENDAR
