BEGIN:VCALENDAR
PRODID:-//eluceo/ical//2.0/EN
VERSION:2.0
CALSCALE:GREGORIAN
BEGIN:VEVENT
UID:7df9cd4085937e48fad9a70acebeebed
DTSTAMP:20260421T094024Z
SUMMARY:BEZ Sisterhood Building Tour
DESCRIPTION:Jewish Federation of Greater Indianapolis\, Inc.\nCommunity Cal
 endar\nhttps://jewishindianapolis.org/jfgicommunitycalendar/bez-sisterhood
 -building-tour-1695740697\n\nJoin us for an exclusive behind-the-scenes to
 ur of Beth-El Zedeck\, led by Barrie Fisch\, an influential figure in shap
 ing the campus’s interior design\, and Gale Halperin\, the former Execut
 ive Director of our synagogue. Explore the design choices and artwork that
  grace our halls\, revealing the rich history and artistic essence of Beth
 -El Zedeck like never before! RSVP by October 12 to sisterhoodbez@gmail.co
 m or to the office by calling 317-253-3441.
DTSTART;TZID=America/New_York:20231018T190000
DTEND;TZID=America/New_York:20231018T210000
END:VEVENT
END:VCALENDAR
