BEGIN:VCALENDAR
PRODID:-//eluceo/ical//2.0/EN
VERSION:2.0
CALSCALE:GREGORIAN
BEGIN:VEVENT
UID:1a4bb857a2defce1e40e673327552c40
DTSTAMP:20260423T064819Z
SUMMARY:BEZ Shabbat-A-Lot
DESCRIPTION:Jewish Federation of Greater Indianapolis\, Inc.\nCommunity Cal
 endar\nhttps://jewishindianapolis.org/jfgicommunitycalendar/bez-shabbat-a-
 lot-1712236160\n\nBEZ congregants are invited to join clergy on the bimah 
 and participate in Shabbat morning services. Sign up to lead your favorite
  prayer\, read from the Torah\, and more. Opportunities are available in H
 ebrew and English. Sign up here: https://www.signupgenius.com/go/20F0949AE
 AE2EA6FF2-48236854-shabbatalot
DTSTART;TZID=America/New_York:20240413T100000
DTEND;TZID=America/New_York:20240413T120000
END:VEVENT
END:VCALENDAR
