BEGIN:VCALENDAR
PRODID:-//eluceo/ical//2.0/EN
VERSION:2.0
CALSCALE:GREGORIAN
BEGIN:VEVENT
UID:46601b8974fab3b6408df1793b495d46
DTSTAMP:20260424T121659Z
SUMMARY:BEZ's Shabbat Hakavod
DESCRIPTION:Jewish Federation of Greater Indianapolis\, Inc.\nCommunity Cal
 endar\nhttps://jewishindianapolis.org/jfgicommunitycalendar/bez-friday-nig
 ht-live-may\n\nHonoring Religious School Teachers and our High School Seni
 ors
DTSTART;TZID=America/New_York:20230505T180000
DTEND;TZID=America/New_York:20230505T190000
END:VEVENT
END:VCALENDAR
