BEGIN:VCALENDAR
PRODID:-//eluceo/ical//2.0/EN
VERSION:2.0
CALSCALE:GREGORIAN
BEGIN:VEVENT
UID:9073de2dafc606e52cf439089594212a
DTSTAMP:20260424T092415Z
SUMMARY:BEZ Community Shabbat Service Honoring Rabbi Dennis Sasso
DESCRIPTION:Jewish Federation of Greater Indianapolis\, Inc.\nCommunity Cal
 endar\nhttps://jewishindianapolis.org/jfgicommunitycalendar/bez-friday-nig
 ht-community-service-honoring-rabbi-dennis-sasso\n\nDetails TBA
DTSTART;TZID=America/New_York:20230512T193000
DTEND;TZID=America/New_York:20230512T213000
END:VEVENT
END:VCALENDAR
