BEGIN:VCALENDAR
PRODID:-//eluceo/ical//2.0/EN
VERSION:2.0
CALSCALE:GREGORIAN
BEGIN:VEVENT
UID:cead62ec99830531f38a88cb6f30967c
DTSTAMP:20260426T021458Z
SUMMARY:BEZ Adult Purim
DESCRIPTION:Jewish Federation of Greater Indianapolis\, Inc.\nCommunity Cal
 endar\nhttps://jewishindianapolis.org/jfgicommunitycalendar/bez-adult-puri
 m\n\nMore details TBA
DTSTART;TZID=America/New_York:20230306T190000
DTEND;TZID=America/New_York:20230306T210000
END:VEVENT
END:VCALENDAR
