BEGIN:VCALENDAR
PRODID:-//eluceo/ical//2.0/EN
VERSION:2.0
CALSCALE:GREGORIAN
BEGIN:VEVENT
UID:0ec366225d9d027285f0e13e54af4ea5
DTSTAMP:20260421T221040Z
SUMMARY:Antisemitism Uncovered
DESCRIPTION:Jewish Federation of Greater Indianapolis\, Inc.\nCommunity Cal
 endar\nhttps://jewishindianapolis.org/jfgicommunitycalendar/antisemitism-u
 ncovered-1685981382\n\n​A25
DTSTART;TZID=America/New_York:20231012T190000
DTEND;TZID=America/New_York:20231012T203000
END:VEVENT
END:VCALENDAR
