BEGIN:VCALENDAR
PRODID:-//eluceo/ical//2.0/EN
VERSION:2.0
CALSCALE:GREGORIAN
BEGIN:VEVENT
UID:a8fc7c89862105cee3b0e2aeddce87fb
DTSTAMP:20260420T015519Z
SUMMARY:Annual Jewish Community Legacy Celebration
DESCRIPTION:Jewish Federation of Greater Indianapolis\, Inc.\nCommunity Cal
 endar\nhttps://jewishindianapolis.org/jfgicommunitycalendar/annual-jewish-
 community-legacy-celebration-1692215897\n\nThis is the annual JFGI endowme
 nt and legacy community celebration. We will come together to celebrate ou
 r community&#39\;s legacy donors\, reflect on the first year of LIFE & LEG
 ACY PLUS\, and enjoy wonderful interactive experiences. This event is by i
 nvitation only. Please reach out to Brian Hoffman at bhoffman@jfgi.org for
  more information about the program\, attendance eligibility\, or to learn
  about how you can support JFGI and/or other Jewish organizations with a l
 egacy gift.
DTSTART;TZID=America/New_York:20231114T183000
DTEND;TZID=America/New_York:20231114T200000
END:VEVENT
END:VCALENDAR
