BEGIN:VCALENDAR
PRODID:-//eluceo/ical//2.0/EN
VERSION:2.0
CALSCALE:GREGORIAN
BEGIN:VEVENT
UID:cdc483696b06dc5f0469130fdb2af60e
DTSTAMP:20260420T015504Z
SUMMARY:Ann Katz Festival of Books and Arts
DESCRIPTION:Jewish Federation of Greater Indianapolis\, Inc.\nCommunity Cal
 endar\nhttps://jewishindianapolis.org/jfgicommunitycalendar/ann-katz-festi
 val-of-books-and-arts-1683219496\n\nDetails to follow.
DTSTART;TZID=America/New_York:20231023T190000
DTEND;TZID=America/New_York:20231113T220000
END:VEVENT
END:VCALENDAR
