BEGIN:VCALENDAR
PRODID:-//eluceo/ical//2.0/EN
VERSION:2.0
CALSCALE:GREGORIAN
BEGIN:VEVENT
UID:9e1876d5f36adb852b6d1de2b5fb1b7f
DTSTAMP:20260423T064824Z
SUMMARY:2024 State of Antisemitism
DESCRIPTION:Jewish Federation of Greater Indianapolis\, Inc.\nCommunity Cal
 endar\nhttps://jewishindianapolis.org/jfgicommunitycalendar/2024-state-of-
 antisemitism-1710871650\n\nJoin us in welcoming ADL&#39\;s National Direct
 or of Antisemitism Programs\, Vlad Khaykin\, to Indianapolis as we reprise
  last year’s powerful community briefing\, the 2024 State of Antisemitis
 m. This year’s program will feature never-before-seen data about the tre
 nds in antisemitic incidents in the US and Indiana. A panel of local commu
 nity leaders will join Khaykin in commenting on the current state of antis
 emitism in Indianapolis and what members of our community can do about it.
 \n\nThis event...
DTSTART;TZID=America/New_York:20240415T190000
DTEND;TZID=America/New_York:20240415T203000
END:VEVENT
END:VCALENDAR
